BEGIN:VCALENDAR
VERSION:2.0
PRODID:-//My Calendar//http://www.joedolson.com//v3.2.15//EN
METHOD:PUBLISH
CALSCALE:GREGORIAN
X-WR-CALNAME:KENTISH U3A
X-PUBLISHED-TTL:PT24H
REFRESH-INTERVAL;VALUE=DURATION:PT24H
X-WR-CALDESC:Events from KENTISH U3A
BEGIN:VEVENT
UID:34-5
LOCATION:
SUMMARY:Table Tennis
DTSTAMP:20210302T140000
ORGANIZER;CN=Don Thwaites:MAILTO:donintas@gmail.com
DTSTART;TZID=Australia/Sydney:20210302T140000
DTEND;TZID=Australia/Sydney:20210302T160000
URL;VALUE=URI:https://kentishu3a.u3anet.org.au/my-calendar/
DESCRIPTION:Come and join us at the Sheffield Town Hall. 
CATEGORIES:General
END:VEVENT
BEGIN:VEVENT
UID:35-5
LOCATION:
SUMMARY:Table Tennis
DTSTAMP:20210309T140000
ORGANIZER;CN=Don Thwaites:MAILTO:donintas@gmail.com
DTSTART;TZID=Australia/Sydney:20210309T140000
DTEND;TZID=Australia/Sydney:20210309T160000
URL;VALUE=URI:https://kentishu3a.u3anet.org.au/my-calendar/
DESCRIPTION:Come and join us at the Sheffield Town Hall. 
CATEGORIES:General
END:VEVENT
BEGIN:VEVENT
UID:36-5
LOCATION:
SUMMARY:Table Tennis
DTSTAMP:20210316T140000
ORGANIZER;CN=Don Thwaites:MAILTO:donintas@gmail.com
DTSTART;TZID=Australia/Sydney:20210316T140000
DTEND;TZID=Australia/Sydney:20210316T160000
URL;VALUE=URI:https://kentishu3a.u3anet.org.au/my-calendar/
DESCRIPTION:Come and join us at the Sheffield Town Hall. 
CATEGORIES:General
END:VEVENT
BEGIN:VEVENT
UID:37-5
LOCATION:
SUMMARY:Table Tennis
DTSTAMP:20210323T140000
ORGANIZER;CN=Don Thwaites:MAILTO:donintas@gmail.com
DTSTART;TZID=Australia/Sydney:20210323T140000
DTEND;TZID=Australia/Sydney:20210323T160000
URL;VALUE=URI:https://kentishu3a.u3anet.org.au/my-calendar/
DESCRIPTION:Come and join us at the Sheffield Town Hall. 
CATEGORIES:General
END:VEVENT
BEGIN:VEVENT
UID:38-5
LOCATION:
SUMMARY:Table Tennis
DTSTAMP:20210330T140000
ORGANIZER;CN=Don Thwaites:MAILTO:donintas@gmail.com
DTSTART;TZID=Australia/Sydney:20210330T140000
DTEND;TZID=Australia/Sydney:20210330T160000
URL;VALUE=URI:https://kentishu3a.u3anet.org.au/my-calendar/
DESCRIPTION:Come and join us at the Sheffield Town Hall. 
CATEGORIES:General
END:VEVENT
BEGIN:VEVENT
UID:39-5
LOCATION:
SUMMARY:Table Tennis
DTSTAMP:20210406T140000
ORGANIZER;CN=Don Thwaites:MAILTO:donintas@gmail.com
DTSTART;TZID=Australia/Sydney:20210406T140000
DTEND;TZID=Australia/Sydney:20210406T160000
URL;VALUE=URI:https://kentishu3a.u3anet.org.au/my-calendar/
DESCRIPTION:Come and join us at the Sheffield Town Hall. 
CATEGORIES:General
END:VEVENT
BEGIN:VEVENT
UID:40-5
LOCATION:
SUMMARY:Table Tennis
DTSTAMP:20210413T140000
ORGANIZER;CN=Don Thwaites:MAILTO:donintas@gmail.com
DTSTART;TZID=Australia/Sydney:20210413T140000
DTEND;TZID=Australia/Sydney:20210413T160000
URL;VALUE=URI:https://kentishu3a.u3anet.org.au/my-calendar/
DESCRIPTION:Come and join us at the Sheffield Town Hall. 
CATEGORIES:General
END:VEVENT
BEGIN:VEVENT
UID:41-5
LOCATION:
SUMMARY:Table Tennis
DTSTAMP:20210420T140000
ORGANIZER;CN=Don Thwaites:MAILTO:donintas@gmail.com
DTSTART;TZID=Australia/Sydney:20210420T140000
DTEND;TZID=Australia/Sydney:20210420T160000
URL;VALUE=URI:https://kentishu3a.u3anet.org.au/my-calendar/
DESCRIPTION:Come and join us at the Sheffield Town Hall. 
CATEGORIES:General
END:VEVENT
BEGIN:VEVENT
UID:42-5
LOCATION:
SUMMARY:Table Tennis
DTSTAMP:20210427T140000
ORGANIZER;CN=Don Thwaites:MAILTO:donintas@gmail.com
DTSTART;TZID=Australia/Sydney:20210427T140000
DTEND;TZID=Australia/Sydney:20210427T160000
URL;VALUE=URI:https://kentishu3a.u3anet.org.au/my-calendar/
DESCRIPTION:Come and join us at the Sheffield Town Hall. 
CATEGORIES:General
END:VEVENT
END:VCALENDAR