BEGIN:VCALENDAR
VERSION:2.0
PRODID:-//My Calendar//http://www.joedolson.com//v3.2.15//EN
METHOD:PUBLISH
CALSCALE:GREGORIAN
X-WR-CALNAME:KENTISH U3A
X-PUBLISHED-TTL:PT24H
REFRESH-INTERVAL;VALUE=DURATION:PT24H
X-WR-CALDESC:Events from KENTISH U3A
BEGIN:VEVENT
UID:3-3
LOCATION:
SUMMARY:Kentish U3A Committee meeting
DTSTAMP:20201218T103000
ORGANIZER;CN=Don Thwaites:MAILTO:donintas@gmail.com
DTSTART;TZID=Australia/Sydney:20201218T103000
DTEND;TZID=Australia/Sydney:20201218T113000
URL;VALUE=URI:https://kentishu3a.u3anet.org.au/my-calendar/
DESCRIPTION: 
CATEGORIES:General
END:VEVENT
BEGIN:VEVENT
UID:26-5
LOCATION:
SUMMARY:Table Tennis
DTSTAMP:20210105T140000
ORGANIZER;CN=Don Thwaites:MAILTO:donintas@gmail.com
DTSTART;TZID=Australia/Sydney:20210105T140000
DTEND;TZID=Australia/Sydney:20210105T160000
URL;VALUE=URI:https://kentishu3a.u3anet.org.au/my-calendar/
DESCRIPTION:Come and join us at the Sheffield Town Hall. 
CATEGORIES:General
END:VEVENT
BEGIN:VEVENT
UID:27-5
LOCATION:
SUMMARY:Table Tennis
DTSTAMP:20210112T140000
ORGANIZER;CN=Don Thwaites:MAILTO:donintas@gmail.com
DTSTART;TZID=Australia/Sydney:20210112T140000
DTEND;TZID=Australia/Sydney:20210112T160000
URL;VALUE=URI:https://kentishu3a.u3anet.org.au/my-calendar/
DESCRIPTION:Come and join us at the Sheffield Town Hall. 
CATEGORIES:General
END:VEVENT
BEGIN:VEVENT
UID:28-5
LOCATION:
SUMMARY:Table Tennis
DTSTAMP:20210119T140000
ORGANIZER;CN=Don Thwaites:MAILTO:donintas@gmail.com
DTSTART;TZID=Australia/Sydney:20210119T140000
DTEND;TZID=Australia/Sydney:20210119T160000
URL;VALUE=URI:https://kentishu3a.u3anet.org.au/my-calendar/
DESCRIPTION:Come and join us at the Sheffield Town Hall. 
CATEGORIES:General
END:VEVENT
BEGIN:VEVENT
UID:29-5
LOCATION:
SUMMARY:Table Tennis
DTSTAMP:20210126T140000
ORGANIZER;CN=Don Thwaites:MAILTO:donintas@gmail.com
DTSTART;TZID=Australia/Sydney:20210126T140000
DTEND;TZID=Australia/Sydney:20210126T160000
URL;VALUE=URI:https://kentishu3a.u3anet.org.au/my-calendar/
DESCRIPTION:Come and join us at the Sheffield Town Hall. 
CATEGORIES:General
END:VEVENT
BEGIN:VEVENT
UID:30-5
LOCATION:
SUMMARY:Table Tennis
DTSTAMP:20210202T140000
ORGANIZER;CN=Don Thwaites:MAILTO:donintas@gmail.com
DTSTART;TZID=Australia/Sydney:20210202T140000
DTEND;TZID=Australia/Sydney:20210202T160000
URL;VALUE=URI:https://kentishu3a.u3anet.org.au/my-calendar/
DESCRIPTION:Come and join us at the Sheffield Town Hall. 
CATEGORIES:General
END:VEVENT
BEGIN:VEVENT
UID:31-5
LOCATION:
SUMMARY:Table Tennis
DTSTAMP:20210209T140000
ORGANIZER;CN=Don Thwaites:MAILTO:donintas@gmail.com
DTSTART;TZID=Australia/Sydney:20210209T140000
DTEND;TZID=Australia/Sydney:20210209T160000
URL;VALUE=URI:https://kentishu3a.u3anet.org.au/my-calendar/
DESCRIPTION:Come and join us at the Sheffield Town Hall. 
CATEGORIES:General
END:VEVENT
BEGIN:VEVENT
UID:32-5
LOCATION:
SUMMARY:Table Tennis
DTSTAMP:20210216T140000
ORGANIZER;CN=Don Thwaites:MAILTO:donintas@gmail.com
DTSTART;TZID=Australia/Sydney:20210216T140000
DTEND;TZID=Australia/Sydney:20210216T160000
URL;VALUE=URI:https://kentishu3a.u3anet.org.au/my-calendar/
DESCRIPTION:Come and join us at the Sheffield Town Hall. 
CATEGORIES:General
END:VEVENT
BEGIN:VEVENT
UID:33-5
LOCATION:
SUMMARY:Table Tennis
DTSTAMP:20210223T140000
ORGANIZER;CN=Don Thwaites:MAILTO:donintas@gmail.com
DTSTART;TZID=Australia/Sydney:20210223T140000
DTEND;TZID=Australia/Sydney:20210223T160000
URL;VALUE=URI:https://kentishu3a.u3anet.org.au/my-calendar/
DESCRIPTION:Come and join us at the Sheffield Town Hall. 
CATEGORIES:General
END:VEVENT
END:VCALENDAR